BEGIN:VCALENDAR
VERSION:2.0
PRODID:-//vlbs.nrw - ECPv6.15.20//NONSGML v1.0//EN
CALSCALE:GREGORIAN
METHOD:PUBLISH
X-ORIGINAL-URL:http://vlbs.nrw
X-WR-CALDESC:Veranstaltungen für vlbs.nrw
REFRESH-INTERVAL;VALUE=DURATION:PT1H
X-Robots-Tag:noindex
X-PUBLISHED-TTL:PT1H
BEGIN:VTIMEZONE
TZID:Europe/Berlin
BEGIN:DAYLIGHT
TZOFFSETFROM:+0100
TZOFFSETTO:+0200
TZNAME:CEST
DTSTART:20250330T010000
END:DAYLIGHT
BEGIN:STANDARD
TZOFFSETFROM:+0200
TZOFFSETTO:+0100
TZNAME:CET
DTSTART:20251026T010000
END:STANDARD
BEGIN:DAYLIGHT
TZOFFSETFROM:+0100
TZOFFSETTO:+0200
TZNAME:CEST
DTSTART:20260329T010000
END:DAYLIGHT
BEGIN:STANDARD
TZOFFSETFROM:+0200
TZOFFSETTO:+0100
TZNAME:CET
DTSTART:20261025T010000
END:STANDARD
BEGIN:DAYLIGHT
TZOFFSETFROM:+0100
TZOFFSETTO:+0200
TZNAME:CEST
DTSTART:20270328T010000
END:DAYLIGHT
BEGIN:STANDARD
TZOFFSETFROM:+0200
TZOFFSETTO:+0100
TZNAME:CET
DTSTART:20271031T010000
END:STANDARD
END:VTIMEZONE
BEGIN:VEVENT
DTSTART;TZID=Europe/Berlin:20260609T150000
DTEND;TZID=Europe/Berlin:20260609T160000
DTSTAMP:20260423T145632
CREATED:20260422T121909Z
LAST-MODIFIED:20260422T121909Z
UID:13030-1781017200-1781020800@vlbs.nrw
SUMMARY:Distance Learning\, einfacher Zugriff auf Fachanwendungen von zu Hause
DESCRIPTION:Distance Learning leicht gemacht – mit NetMan for Schools \nWie gelingt ortsunabhängiger Unterricht mit Zugriff auf schulische Fachanwendungen? Diese Fortbildung zeigt praxisnah\, wie Distance Learning mit NetMan for Schools effektiv umgesetzt werden kann. \nIm Fokus stehen die technischen und organisatorischen Voraussetzungen für den Einsatz an der Schule sowie bei Lehrkräften und Schülerinnen und Schülern. Anhand einer Live-Demo erleben Sie\, wie der Zugriff auf Fachanwendungen von zu Hause aus einfach und sicher funktioniert. \nDie Fortbildung richtet sich an Lehrkräfte\, die ihren digitalen Unterricht erweitern und ihren Lernenden flexible Zugänge zu schulischer Software ermöglichen möchten. \nReferent:\nH + H Software GmbH\, P. Stecker\nSchwenk IT GmbH\, C. Rogowsky \nOrt:\nonline \nTermin:\nDienstag\, 09.06.2026\, 15:00 Uhr bis 16:00 Uhr \nTeilnahmegebühr:\ndie Fortbildung ist für alle Interessierten kostenfrei \nTipp: Nutzen Sie die Anmeldung zu dieser Fortbildung\, um Mitglied im vlbs zu werden und sichern Sie sich damit u. a. die vergünstigte Teilnahme an zukünftigen Veranstaltung. \nDie Kosten können aus dem Fortbildungsbudget Ihrer Schule erstattet werden. Sprechen Sie hierzu mit dem Fortbildungsbeauftragten in Ihrer Schule. \nAnmeldung:\nSenden Sie Ihren Teilnahmewunsch bis zum 29.05.2026 an fortbildung@vlbs.de.\nDie Plätze werden in Reihenfolge der Anmeldungen vergeben. \nWir wünschen Ihnen einen erfolgreichen Schulungstag mit vielen neuen Anregungen!\nIna Hermanns & Miriam Fleuren\nvlbs-Fortbildungsbeauftragte \nDr. Markus Soeding\nvlbs-Geschäftsführer  \n 
URL:http://vlbs.nrw/event/distance_learning/
LOCATION:Webinar
CATEGORIES:Fortbildungen
ATTACH;FMTTYPE=image/png:http://vlbs.nrw/wp-content/uploads/2026/04/NetMan-fuer-Schulen_-Vernetzte-Lernloesungen-2.png
ORGANIZER;CN="VLBS Landesverband":MAILTO:info@vlbs.de
END:VEVENT
END:VCALENDAR